BEGIN:VCALENDAR
VERSION:2.0
CALSCALE:GREGORIAN
PRODID:adamgibbons/ics
METHOD:PUBLISH
X-PUBLISHED-TTL:PT1H
BEGIN:VEVENT
UID:124@dubagenda.top
SUMMARY:Dub In The Temple // Eskifaia & Friends
DTSTAMP:20260421T120627Z
DTSTART:20260425T130000Z
DTEND:20260425T230000Z
URL:https://dubagenda.top/event/dub-in-the-temple-eskifaia-and-friends
LOCATION:79260 Sainte-Néomaye // Le Temple - Rue de la Mairie\, Les Quenoui
	lles\, Devant l'École\, Aiript\, Sainte-Néomaye\, Niort\, Deux-Sèvres\, No
	uvelle-Aquitaine\, France métropolitaine\, 79260\, France
STATUS:CONFIRMED
CATEGORIES:Sound System,79,2026
END:VEVENT
BEGIN:VEVENT
UID:178@dubagenda.top
SUMMARY:Diff'Art Dub Club #4 // Macka B Marina P Eeyun Purkins
DTSTAMP:20260421T120627Z
DTSTART:20260425T183000Z
DTEND:20260426T020000Z
URL:https://dubagenda.top/event/diffart-dub-club-4-macka-b-marina-p-eeyun-p
	urkins
LOCATION:79200 Parthenay // Salle Diff'Art - Rue du Président Salvador Alle
	nde\, Le Grand Rouhé\, Le Theatre\, Parthenay\, Deux-Sèvres\, Nouvelle-Aqu
	itaine\, France métropolitaine\, 79200\, France
STATUS:CONFIRMED
CATEGORIES:79,Sound System,2026
END:VEVENT
BEGIN:VEVENT
UID:148@dubagenda.top
SUMMARY:Shake That Mill #1 // Rumble HiFi
DTSTAMP:20260421T120627Z
DTSTART:20260425T190000Z
DTEND:20260426T010000Z
URL:https://dubagenda.top/event/shake-that-mill-1-rumble-hifi
LOCATION:56200 La Gacilly - La Gacilly\, Vannes\, Morbihan\, Bretagne\, Fra
	nce métropolitaine\, 56200\, France
STATUS:CONFIRMED
CATEGORIES:Sound System,56,2026
END:VEVENT
BEGIN:VEVENT
UID:164@dubagenda.top
SUMMARY:Step In Dub #6 // Siren Dub meets Youth Collective 
DTSTAMP:20260421T120627Z
DTSTART:20260501T170000Z
DTEND:20260501T233000Z
URL:https://dubagenda.top/event/step-in-dub-6
LOCATION:85220 Apremont // Le Grand Duc - La Thébaultière\, Apremont\, La R
	oche-sur-Yon\, Vendée\, Pays de la Loire\, France métropolitaine\, 85220\,
	 France
STATUS:CONFIRMED
CATEGORIES:2026,85,Sound System
END:VEVENT
BEGIN:VEVENT
UID:152@dubagenda.top
SUMMARY:United Vibration #10 // Musically Mad meets Untitled Sound System
DTSTAMP:20260421T120627Z
DTSTART:20260502T180000Z
DTEND:20260503T000000Z
URL:https://dubagenda.top/event/united-vibration-10-musically-mad-meets-unt
	ilted-sound-system
LOCATION:85600 Montaigu // Le Zinor - 191\, Rue du Moulin Gros\, Montaigu\,
	 Montaigu-Vendée\, La Roche-sur-Yon\, Vendée\, Pays de la Loire\, France m
	étropolitaine\, 85600\, France
STATUS:CONFIRMED
CATEGORIES:2026,Sound System,85
END:VEVENT
BEGIN:VEVENT
UID:160@dubagenda.top
SUMMARY:Who's The Captn // Erev HiFi
DTSTAMP:20260421T120627Z
DTSTART:20260530T173000Z
DTEND:20260530T220000Z
URL:https://dubagenda.top/event/whos-the-captn-erev-hifi
LOCATION:56890 Plescop // Capt'n Hablock - 3\, Rue Blaise Pascal\, Kermaria
	\, Le Goh Lenn\, Plescop\, Vannes\, Morbihan\, Bretagne\, France métropoli
	taine\, 56890\, France
STATUS:CONFIRMED
CATEGORIES:56,2026,Sound System
END:VEVENT
BEGIN:VEVENT
UID:135@dubagenda.top
SUMMARY:Dubwise Party #5 // Channel One - Indica Dubs - Conscious Sounds
DTSTAMP:20260421T120627Z
DTSTART:20260530T190000Z
DTEND:20260531T010000Z
URL:https://dubagenda.top/event/dubwise-party-5-channel-one-indica-dubs-con
	scious-sounds
LOCATION:35000 Rennes // Jardin Moderne - Jardin Moderne\, Rue du Manoir de
	 Servigné\, Zone d'Activités Ouest\, Zone d'Activité Ouest\, Bourg l'Évesq
	ue - La Touche - Moulin du Comte\, Quartiers Ouest\, Rennes\, Ille-et-Vila
	ine\, Bretagne\, France métropolitaine\, 35000\, France
STATUS:CONFIRMED
CATEGORIES:35,2026,Sound System
END:VEVENT
BEGIN:VEVENT
UID:195@dubagenda.top
SUMMARY:Glad Forest Festival // Steppaddict\, SOMA\, Siren Dub Sound System
DTSTAMP:20260421T120627Z
DTSTART:20260627T160000Z
DTEND:20260628T020000Z
URL:https://dubagenda.top/event/glad-forest-festival-steppaddict-soma-siren
	-dub-sound-system
LOCATION:85170 Le Poiré sur Vie // Terrain privé - Le Poiré-sur-Vie\, La Ro
	che-sur-Yon\, Vendée\, Pays de la Loire\, France métropolitaine\, 85170\, 
	France
STATUS:CONFIRMED
CATEGORIES:2026,85,Sound System
END:VEVENT
BEGIN:VEVENT
UID:179@dubagenda.top
SUMMARY:Invalved Social Club #21// Sound Meeting Edition
DTSTAMP:20260421T120627Z
DTSTART:20260919T170000Z
DTEND:20260919T234500Z
URL:https://dubagenda.top/event/invalved-social-club-21-sound-meeting-editi
	on
LOCATION:44400 Rezé // Cold Crash - Brasserie Nautile\, 4\, Rue du Seil\, L
	e Port Au Blé\, Haute Île\, Rezé\, Nantes\, Loire-Atlantique\, Pays de la 
	Loire\, France métropolitaine\, 44400\, France
STATUS:CONFIRMED
CATEGORIES:
END:VEVENT
BEGIN:VEVENT
UID:180@dubagenda.top
SUMMARY:INVALVED SOCIAL CLUB #21 // Sound Meeting Edition
DTSTAMP:20260421T120627Z
DTSTART:20260919T170000Z
DTEND:20260919T234500Z
URL:https://dubagenda.top/event/invalved-social-club-21-sound-meeting-editi
	on-1
LOCATION:44400 Rezé // Cold Crash - Brasserie Nautile\, 4\, Rue du Seil\, L
	e Port Au Blé\, Haute Île\, Rezé\, Nantes\, Loire-Atlantique\, Pays de la 
	Loire\, France métropolitaine\, 44400\, France
STATUS:CONFIRMED
CATEGORIES:
END:VEVENT
BEGIN:VEVENT
UID:181@dubagenda.top
SUMMARY:INVALVED SOCIAL CLUB#22 // Sound Meeting Edition
DTSTAMP:20260421T120627Z
DTSTART:20261031T180000Z
DTEND:20261101T004500Z
URL:https://dubagenda.top/event/invalved-social-club22-sound-meeting-editio
	n
LOCATION:44400 Rezé // Cold Crash - Brasserie Nautile\, 4\, Rue du Seil\, L
	e Port Au Blé\, Haute Île\, Rezé\, Nantes\, Loire-Atlantique\, Pays de la 
	Loire\, France métropolitaine\, 44400\, France
STATUS:CONFIRMED
CATEGORIES:
END:VEVENT
BEGIN:VEVENT
UID:182@dubagenda.top
SUMMARY:INVALVED SOCIAL CLUB#23 // Invalved 10 years aniversary
DTSTAMP:20260421T120627Z
DTSTART:20261121T180000Z
DTEND:20261122T004500Z
URL:https://dubagenda.top/event/invalved-social-club23-invalved-10-years-an
	iversary
LOCATION:44400 Rezé // Cold Crash - Brasserie Nautile\, 4\, Rue du Seil\, L
	e Port Au Blé\, Haute Île\, Rezé\, Nantes\, Loire-Atlantique\, Pays de la 
	Loire\, France métropolitaine\, 44400\, France
STATUS:CONFIRMED
CATEGORIES:
END:VEVENT
BEGIN:VEVENT
UID:183@dubagenda.top
SUMMARY:INVALVED SOCIAL CLUB#24 // Sound Meeting Edition
DTSTAMP:20260421T120627Z
DTSTART:20261219T180000Z
DTEND:20261220T004500Z
URL:https://dubagenda.top/event/invalved-social-club24-sound-meeting-editio
	n
LOCATION:44400 Rezé // Cold Crash - Brasserie Nautile\, 4\, Rue du Seil\, L
	e Port Au Blé\, Haute Île\, Rezé\, Nantes\, Loire-Atlantique\, Pays de la 
	Loire\, France métropolitaine\, 44400\, France
STATUS:CONFIRMED
CATEGORIES:
END:VEVENT
BEGIN:VEVENT
UID:184@dubagenda.top
SUMMARY:INVALVED SOCIAL CLUB#25 // Sound Meeting Edition
DTSTAMP:20260421T120627Z
DTSTART:20270116T180000Z
DTEND:20270117T004500Z
URL:https://dubagenda.top/event/invalved-social-club25-sound-meeting-editio
	n
LOCATION:44400 Rezé // Cold Crash - Brasserie Nautile\, 4\, Rue du Seil\, L
	e Port Au Blé\, Haute Île\, Rezé\, Nantes\, Loire-Atlantique\, Pays de la 
	Loire\, France métropolitaine\, 44400\, France
STATUS:CONFIRMED
CATEGORIES:
END:VEVENT
BEGIN:VEVENT
UID:185@dubagenda.top
SUMMARY:INVALVED SOCIAL CLUB#26 // Sound Meeting Edition
DTSTAMP:20260421T120627Z
DTSTART:20270213T180000Z
DTEND:20270214T004500Z
URL:https://dubagenda.top/event/invalved-social-club26-sound-meeting-editio
	n
LOCATION:44400 Rezé // Cold Crash - Brasserie Nautile\, 4\, Rue du Seil\, L
	e Port Au Blé\, Haute Île\, Rezé\, Nantes\, Loire-Atlantique\, Pays de la 
	Loire\, France métropolitaine\, 44400\, France
STATUS:CONFIRMED
CATEGORIES:
END:VEVENT
BEGIN:VEVENT
UID:186@dubagenda.top
SUMMARY:INVALVED SOCIAL CLUB#27 // Sound Meeting Edition
DTSTAMP:20260421T120627Z
DTSTART:20270313T180000Z
DTEND:20270314T004500Z
URL:https://dubagenda.top/event/invalved-social-club27-sound-meeting-editio
	n
LOCATION:44400 Rezé // Cold Crash - Brasserie Nautile\, 4\, Rue du Seil\, L
	e Port Au Blé\, Haute Île\, Rezé\, Nantes\, Loire-Atlantique\, Pays de la 
	Loire\, France métropolitaine\, 44400\, France
STATUS:CONFIRMED
CATEGORIES:
END:VEVENT
BEGIN:VEVENT
UID:187@dubagenda.top
SUMMARY:INVALVED SOCIAL CLUB#28 // Sound Meeting Edition
DTSTAMP:20260421T120627Z
DTSTART:20270417T170000Z
DTEND:20270417T234500Z
URL:https://dubagenda.top/event/invalved-social-club28-sound-meeting-editio
	n
LOCATION:44400 Rezé // Cold Crash - Brasserie Nautile\, 4\, Rue du Seil\, L
	e Port Au Blé\, Haute Île\, Rezé\, Nantes\, Loire-Atlantique\, Pays de la 
	Loire\, France métropolitaine\, 44400\, France
STATUS:CONFIRMED
CATEGORIES:
END:VEVENT
END:VCALENDAR
